BEGIN:VCALENDAR
VERSION:2.0
PRODID:-// - ECPv6.15.8//NONSGML v1.0//EN
CALSCALE:GREGORIAN
METHOD:PUBLISH
X-ORIGINAL-URL:https://albanyclub.co.uk
X-WR-CALDESC:Events for 
REFRESH-INTERVAL;VALUE=DURATION:PT1H
X-Robots-Tag:noindex
X-PUBLISHED-TTL:PT1H
BEGIN:VTIMEZONE
TZID:UTC
BEGIN:STANDARD
TZOFFSETFROM:+0000
TZOFFSETTO:+0000
TZNAME:UTC
DTSTART:20220101T000000
END:STANDARD
END:VTIMEZONE
BEGIN:VEVENT
DTSTART;TZID=UTC:20231223T200000
DTEND;TZID=UTC:20231223T235900
DTSTAMP:20260421T152330
CREATED:20231129T181754Z
LAST-MODIFIED:20231220T183637Z
UID:436-1703361600-1703375940@albanyclub.co.uk
SUMMARY:Audio Heroes
DESCRIPTION:This professional outfit\, with energetic fun loving young men\, cover songs from The Beatles and Elvis through to Kings Of Leon and Take That! They really do have the perfect set of songs to suit any occasion.
URL:https://albanyclub.co.uk/events/audio-heros/
LOCATION:The Albany Club Concert Room\, 10 Earlsdon St\, Coventry\, West Midlands\, CV5 6EG\, United Kingdom
END:VEVENT
END:VCALENDAR