BEGIN:VCALENDAR
VERSION:2.0
PRODID:-// - ECPv6.15.8//NONSGML v1.0//EN
CALSCALE:GREGORIAN
METHOD:PUBLISH
X-ORIGINAL-URL:https://albanyclub.co.uk
X-WR-CALDESC:Events for 
REFRESH-INTERVAL;VALUE=DURATION:PT1H
X-Robots-Tag:noindex
X-PUBLISHED-TTL:PT1H
BEGIN:VTIMEZONE
TZID:UTC
BEGIN:STANDARD
TZOFFSETFROM:+0000
TZOFFSETTO:+0000
TZNAME:UTC
DTSTART:20220101T000000
END:STANDARD
END:VTIMEZONE
BEGIN:VEVENT
DTSTART;TZID=UTC:20231230T200000
DTEND;TZID=UTC:20231231T010000
DTSTAMP:20260421T152330
CREATED:20231129T181828Z
LAST-MODIFIED:20231203T161109Z
UID:439-1703966400-1703984400@albanyclub.co.uk
SUMMARY:The Stonehearts
DESCRIPTION:The Stonehearts are a 3-piece covers band based in Coventry taking on classic tracks from over the years.
URL:https://albanyclub.co.uk/events/the-stonehearts/
LOCATION:The Albany Club Concert Room\, 10 Earlsdon St\, Coventry\, West Midlands\, CV5 6EG\, United Kingdom
END:VEVENT
END:VCALENDAR