BEGIN:VCALENDAR
VERSION:2.0
PRODID:-// - ECPv6.15.8//NONSGML v1.0//EN
CALSCALE:GREGORIAN
METHOD:PUBLISH
X-ORIGINAL-URL:https://albanyclub.co.uk
X-WR-CALDESC:Events for 
REFRESH-INTERVAL;VALUE=DURATION:PT1H
X-Robots-Tag:noindex
X-PUBLISHED-TTL:PT1H
BEGIN:VTIMEZONE
TZID:UTC
BEGIN:STANDARD
TZOFFSETFROM:+0000
TZOFFSETTO:+0000
TZNAME:UTC
DTSTART:20230101T000000
END:STANDARD
END:VTIMEZONE
BEGIN:VEVENT
DTSTART;TZID=UTC:20240217T210000
DTEND;TZID=UTC:20240218T003000
DTSTAMP:20260421T123503
CREATED:20240215T105611Z
LAST-MODIFIED:20240215T105611Z
UID:853-1708203600-1708216200@albanyclub.co.uk
SUMMARY:Audio Heroes
DESCRIPTION:
URL:https://albanyclub.co.uk/events/audio-heroes/
LOCATION:West Midlands
END:VEVENT
END:VCALENDAR