BEGIN:VCALENDAR
VERSION:2.0
PRODID:-// - ECPv6.15.8//NONSGML v1.0//EN
CALSCALE:GREGORIAN
METHOD:PUBLISH
X-ORIGINAL-URL:https://albanyclub.co.uk
X-WR-CALDESC:Events for 
REFRESH-INTERVAL;VALUE=DURATION:PT1H
X-Robots-Tag:noindex
X-PUBLISHED-TTL:PT1H
BEGIN:VTIMEZONE
TZID:UTC
BEGIN:STANDARD
TZOFFSETFROM:+0000
TZOFFSETTO:+0000
TZNAME:UTC
DTSTART:20230101T000000
END:STANDARD
END:VTIMEZONE
BEGIN:VEVENT
DTSTART;TZID=UTC:20240223T203000
DTEND;TZID=UTC:20240223T235900
DTSTAMP:20260421T123504
CREATED:20240215T105810Z
LAST-MODIFIED:20240215T105810Z
UID:855-1708720200-1708732740@albanyclub.co.uk
SUMMARY:Ellie Jones & The Giants
DESCRIPTION:Ellie Jones and The Giants are a combination of eclectic musicians who come together to play the songs you love spanning many decades and artists: Pop\, Soul\, Jazz\, Reggae\, Blues\, Ska\, Rock\, Rock n’ Roll and Irish. With Ellie on vocals and guitar\, boasting a unique lounge/easy listening voice and funky guitar style that adapts to each song they perform. \nThe Giants are a collective of musicians of all ages\, who each represent their own personalities in their playing; from sophisticated\, cool and jazzy\, to fun\, spontaneous and party-like. Their shows are fun and relaxed\, and adaptable depending on the event or venue. The line-up can vary; from a 3-piece band\, all the way to a 6/7 piece.
URL:https://albanyclub.co.uk/events/ellie-jones-the-giants-3/
LOCATION:West Midlands
END:VEVENT
END:VCALENDAR