BEGIN:VCALENDAR
VERSION:2.0
PRODID:-// - ECPv6.15.8//NONSGML v1.0//EN
CALSCALE:GREGORIAN
METHOD:PUBLISH
X-ORIGINAL-URL:https://albanyclub.co.uk
X-WR-CALDESC:Events for 
REFRESH-INTERVAL;VALUE=DURATION:PT1H
X-Robots-Tag:noindex
X-PUBLISHED-TTL:PT1H
BEGIN:VTIMEZONE
TZID:UTC
BEGIN:STANDARD
TZOFFSETFROM:+0000
TZOFFSETTO:+0000
TZNAME:UTC
DTSTART:20230101T000000
END:STANDARD
END:VTIMEZONE
BEGIN:VEVENT
DTSTART;TZID=UTC:20240323T210000
DTEND;TZID=UTC:20240324T003000
DTSTAMP:20260421T111349
CREATED:20240314T105734Z
LAST-MODIFIED:20240314T105734Z
UID:914-1711227600-1711240200@albanyclub.co.uk
SUMMARY:The Wonder Whys
DESCRIPTION:Oozing with professionalism\, charm\, experience and musicianship\, they are equally at home entertaining the most intimate of audiences – such as Birthdays and Weddings – with as little as 30 people\, right through to large-scale arenas like The Alexandra Palace (Ally Pally) (twice) – where 6000 partied at Europe’s largest Beer Festival 
URL:https://albanyclub.co.uk/events/the-wonder-whys/
LOCATION:The Albany Club Concert Room\, 10 Earlsdon St\, Coventry\, West Midlands\, CV5 6EG\, United Kingdom
END:VEVENT
END:VCALENDAR