BEGIN:VCALENDAR
VERSION:2.0
PRODID:-// - ECPv6.15.8//NONSGML v1.0//EN
CALSCALE:GREGORIAN
METHOD:PUBLISH
X-ORIGINAL-URL:https://albanyclub.co.uk
X-WR-CALDESC:Events for 
REFRESH-INTERVAL;VALUE=DURATION:PT1H
X-Robots-Tag:noindex
X-PUBLISHED-TTL:PT1H
BEGIN:VTIMEZONE
TZID:UTC
BEGIN:STANDARD
TZOFFSETFROM:+0000
TZOFFSETTO:+0000
TZNAME:UTC
DTSTART:20230101T000000
END:STANDARD
END:VTIMEZONE
BEGIN:VEVENT
DTSTART;TZID=UTC:20240405T200000
DTEND;TZID=UTC:20240405T235900
DTSTAMP:20260421T095334
CREATED:20231203T172743Z
LAST-MODIFIED:20231203T172743Z
UID:559-1712347200-1712361540@albanyclub.co.uk
SUMMARY:The Warning
DESCRIPTION:The best Rock and Indie band in Warwickshire playing covers from greats like David Bowie\, The Killers\, The Arctic Monkeys\, Franz Ferdinand\, Pulp\, The Who\, Green Day plus much\, much more.
URL:https://albanyclub.co.uk/events/the-warning/
LOCATION:The Albany Club Concert Room\, 10 Earlsdon St\, Coventry\, West Midlands\, CV5 6EG\, United Kingdom
END:VEVENT
END:VCALENDAR