BEGIN:VCALENDAR
VERSION:2.0
PRODID:-// - ECPv6.15.8//NONSGML v1.0//EN
CALSCALE:GREGORIAN
METHOD:PUBLISH
X-ORIGINAL-URL:https://albanyclub.co.uk
X-WR-CALDESC:Events for 
REFRESH-INTERVAL;VALUE=DURATION:PT1H
X-Robots-Tag:noindex
X-PUBLISHED-TTL:PT1H
BEGIN:VTIMEZONE
TZID:UTC
BEGIN:STANDARD
TZOFFSETFROM:+0000
TZOFFSETTO:+0000
TZNAME:UTC
DTSTART:20230101T000000
END:STANDARD
END:VTIMEZONE
BEGIN:VEVENT
DTSTART;TZID=UTC:20240406T200000
DTEND;TZID=UTC:20240407T010000
DTSTAMP:20260421T095350
CREATED:20231203T172930Z
LAST-MODIFIED:20240314T105205Z
UID:561-1712433600-1712451600@albanyclub.co.uk
SUMMARY:The Collective
DESCRIPTION:Performing classic and contemporary funk\, soul\, Motown\, rock and RnB hits from across the decades by artists such as Whitney Houston\, Luther Vandross\, Bruno Mars and many more…….
URL:https://albanyclub.co.uk/events/the-collective/
LOCATION:The Albany Club Concert Room\, 10 Earlsdon St\, Coventry\, West Midlands\, CV5 6EG\, United Kingdom
END:VEVENT
END:VCALENDAR