BEGIN:VCALENDAR
VERSION:2.0
PRODID:-// - ECPv6.15.8//NONSGML v1.0//EN
CALSCALE:GREGORIAN
METHOD:PUBLISH
X-ORIGINAL-URL:https://albanyclub.co.uk
X-WR-CALDESC:Events for 
REFRESH-INTERVAL;VALUE=DURATION:PT1H
X-Robots-Tag:noindex
X-PUBLISHED-TTL:PT1H
BEGIN:VTIMEZONE
TZID:UTC
BEGIN:STANDARD
TZOFFSETFROM:+0000
TZOFFSETTO:+0000
TZNAME:UTC
DTSTART:20230101T000000
END:STANDARD
END:VTIMEZONE
BEGIN:VEVENT
DTSTART;TZID=UTC:20240518T200000
DTEND;TZID=UTC:20240519T010000
DTSTAMP:20260421T082446
CREATED:20231203T175353Z
LAST-MODIFIED:20240510T135307Z
UID:586-1716062400-1716080400@albanyclub.co.uk
SUMMARY:Seahorse Pilots
DESCRIPTION:Our current set of songs comprises of tracks from 60’s – present. We have a full set\, but we are always keen to evolve our playlist and we are open-minded as long as it fits in with the functions aim. Adding our own spin to make tracks work for us is cool too.
URL:https://albanyclub.co.uk/events/hot-2-trot/
LOCATION:The Albany Club Concert Room\, 10 Earlsdon St\, Coventry\, West Midlands\, CV5 6EG\, United Kingdom
END:VEVENT
END:VCALENDAR