BEGIN:VCALENDAR
VERSION:2.0
PRODID:-// - ECPv6.15.8//NONSGML v1.0//EN
CALSCALE:GREGORIAN
METHOD:PUBLISH
X-ORIGINAL-URL:https://albanyclub.co.uk
X-WR-CALDESC:Events for 
REFRESH-INTERVAL;VALUE=DURATION:PT1H
X-Robots-Tag:noindex
X-PUBLISHED-TTL:PT1H
BEGIN:VTIMEZONE
TZID:UTC
BEGIN:STANDARD
TZOFFSETFROM:+0000
TZOFFSETTO:+0000
TZNAME:UTC
DTSTART:20230101T000000
END:STANDARD
END:VTIMEZONE
BEGIN:VEVENT
DTSTART;TZID=UTC:20240621T200000
DTEND;TZID=UTC:20240621T235900
DTSTAMP:20260421T064330
CREATED:20231203T175928Z
LAST-MODIFIED:20240620T122115Z
UID:604-1719000000-1719014340@albanyclub.co.uk
SUMMARY:Tom Jones Tribute - Tony Gold
DESCRIPTION:Tom Jones Tribute Act – Tony Gold has been performing the act for 24 years now\, and is one of the best and accurate tributes on the circuit with his one hour extravaganza of Tom Jones’ hits getting the party started at any function. \nTony Gold  hits those big notes with ease just like Tom Jones\, as he moves and performs like TOM. He will turn any event into a complete success!! \nSo far Tony  has had great reviews as the Sir Tom Jones tribute act\, and is sought after by some of the world’s leading agents and bookers. His Tom Jones tribute show has taken him all over the world with appearances in Dubai at the famous millennium airport hotel \, also he has just finished his second successful season as the Tom Jones tribute act in the UK’s premier theatres all over the UK .
URL:https://albanyclub.co.uk/events/tom-jones-tony-gold/
LOCATION:The Albany Club Concert Room\, 10 Earlsdon St\, Coventry\, West Midlands\, CV5 6EG\, United Kingdom
END:VEVENT
END:VCALENDAR