BEGIN:VCALENDAR
VERSION:2.0
PRODID:-// - ECPv6.15.8//NONSGML v1.0//EN
CALSCALE:GREGORIAN
METHOD:PUBLISH
X-ORIGINAL-URL:https://albanyclub.co.uk
X-WR-CALDESC:Events for 
REFRESH-INTERVAL;VALUE=DURATION:PT1H
X-Robots-Tag:noindex
X-PUBLISHED-TTL:PT1H
BEGIN:VTIMEZONE
TZID:UTC
BEGIN:STANDARD
TZOFFSETFROM:+0000
TZOFFSETTO:+0000
TZNAME:UTC
DTSTART:20230101T000000
END:STANDARD
END:VTIMEZONE
BEGIN:VEVENT
DTSTART;TZID=UTC:20240802T200000
DTEND;TZID=UTC:20240802T235900
DTSTAMP:20260421T041323
CREATED:20231203T185308Z
LAST-MODIFIED:20240725T132856Z
UID:659-1722628800-1722643140@albanyclub.co.uk
SUMMARY:Bang on the Ear
DESCRIPTION:‘Bang on the Ear’ specialise in up beat traditional & contemporary Irish/Celtic Folk Rock songs and tunes\, along with many other popular favourites.
URL:https://albanyclub.co.uk/events/bang-on-the-ear-2/
LOCATION:The Albany Club Lounge
END:VEVENT
END:VCALENDAR