BEGIN:VCALENDAR
VERSION:2.0
PRODID:-// - ECPv6.15.8//NONSGML v1.0//EN
CALSCALE:GREGORIAN
METHOD:PUBLISH
X-ORIGINAL-URL:https://albanyclub.co.uk
X-WR-CALDESC:Events for 
REFRESH-INTERVAL;VALUE=DURATION:PT1H
X-Robots-Tag:noindex
X-PUBLISHED-TTL:PT1H
BEGIN:VTIMEZONE
TZID:UTC
BEGIN:STANDARD
TZOFFSETFROM:+0000
TZOFFSETTO:+0000
TZNAME:UTC
DTSTART:20230101T000000
END:STANDARD
END:VTIMEZONE
BEGIN:VEVENT
DTSTART;TZID=UTC:20240803T200000
DTEND;TZID=UTC:20240804T003000
DTSTAMP:20260421T041451
CREATED:20231129T210817Z
LAST-MODIFIED:20240725T132925Z
UID:461-1722715200-1722731400@albanyclub.co.uk
SUMMARY:Ian 'Curly' Davies
DESCRIPTION:Professional Singer performing his themed solo show ‘Smash Hits From Across the Decades’.
URL:https://albanyclub.co.uk/events/ian-curly/
LOCATION:The Albany Club Concert Room\, 10 Earlsdon St\, Coventry\, West Midlands\, CV5 6EG\, United Kingdom
END:VEVENT
END:VCALENDAR