BEGIN:VCALENDAR
VERSION:2.0
PRODID:-// - ECPv6.15.8//NONSGML v1.0//EN
CALSCALE:GREGORIAN
METHOD:PUBLISH
X-ORIGINAL-URL:https://albanyclub.co.uk
X-WR-CALDESC:Events for 
REFRESH-INTERVAL;VALUE=DURATION:PT1H
X-Robots-Tag:noindex
X-PUBLISHED-TTL:PT1H
BEGIN:VTIMEZONE
TZID:UTC
BEGIN:STANDARD
TZOFFSETFROM:+0000
TZOFFSETTO:+0000
TZNAME:UTC
DTSTART:20230101T000000
END:STANDARD
END:VTIMEZONE
BEGIN:VEVENT
DTSTART;TZID=UTC:20240810T200000
DTEND;TZID=UTC:20240811T010000
DTSTAMP:20260421T041332
CREATED:20231203T185357Z
LAST-MODIFIED:20240805T182601Z
UID:663-1723320000-1723338000@albanyclub.co.uk
SUMMARY:Solace
DESCRIPTION:Solace is an indie rock band known for their captivating sound and infectious melodies. Drawing inspiration from bands like Catfish and the Bottlemen\, Arctic Monkeys\, and Kings of Leon\, their music is a fresh blend of energetic rock and introspective storytelling built for the big stage. With a unique ability to connect with listeners on a deep emotional level\, Solace creates an immersive sonic experience that leaves a lasting impression.
URL:https://albanyclub.co.uk/events/solace/
LOCATION:The Albany Club Concert Room\, 10 Earlsdon St\, Coventry\, West Midlands\, CV5 6EG\, United Kingdom
END:VEVENT
END:VCALENDAR