BEGIN:VCALENDAR
VERSION:2.0
PRODID:-// - ECPv6.15.8//NONSGML v1.0//EN
CALSCALE:GREGORIAN
METHOD:PUBLISH
X-ORIGINAL-URL:https://albanyclub.co.uk
X-WR-CALDESC:Events for 
REFRESH-INTERVAL;VALUE=DURATION:PT1H
X-Robots-Tag:noindex
X-PUBLISHED-TTL:PT1H
BEGIN:VTIMEZONE
TZID:UTC
BEGIN:STANDARD
TZOFFSETFROM:+0000
TZOFFSETTO:+0000
TZNAME:UTC
DTSTART:20230101T000000
END:STANDARD
END:VTIMEZONE
BEGIN:VEVENT
DTSTART;TZID=UTC:20240816T200000
DTEND;TZID=UTC:20240816T235900
DTSTAMP:20260421T041443
CREATED:20231203T185430Z
LAST-MODIFIED:20231203T185430Z
UID:665-1723838400-1723852740@albanyclub.co.uk
SUMMARY:Rezistance
DESCRIPTION:Rezistance are a four piece band playing MTV/Radio Friendly rock songs from bands including Bon Jovi\, Def Leppard\, Journey\, Whitesnake\, The Cult\, Poison\, Queen\, Van Halen\, Thunder\, Thin Lizzy\, UFO\, Billy Idol\, Motley Crue and many more..
URL:https://albanyclub.co.uk/events/rezistance-2/
LOCATION:The Albany Club Concert Room\, 10 Earlsdon St\, Coventry\, West Midlands\, CV5 6EG\, United Kingdom
END:VEVENT
END:VCALENDAR