BEGIN:VCALENDAR
VERSION:2.0
PRODID:-// - ECPv6.15.8//NONSGML v1.0//EN
CALSCALE:GREGORIAN
METHOD:PUBLISH
X-ORIGINAL-URL:https://albanyclub.co.uk
X-WR-CALDESC:Events for 
REFRESH-INTERVAL;VALUE=DURATION:PT1H
X-Robots-Tag:noindex
X-PUBLISHED-TTL:PT1H
BEGIN:VTIMEZONE
TZID:UTC
BEGIN:STANDARD
TZOFFSETFROM:+0000
TZOFFSETTO:+0000
TZNAME:UTC
DTSTART:20230101T000000
END:STANDARD
END:VTIMEZONE
BEGIN:VEVENT
DTSTART;TZID=UTC:20240817T200000
DTEND;TZID=UTC:20240818T010000
DTSTAMP:20260421T041322
CREATED:20231203T185505Z
LAST-MODIFIED:20231203T185505Z
UID:667-1723924800-1723942800@albanyclub.co.uk
SUMMARY:Jaguars
DESCRIPTION:The Jaguars are one of the Midland’s busiest and well established bands. During the last 15 years\, the band have enjoyed performing at clubs and holiday venues all over the UK – playing some of the best songs in pop history.
URL:https://albanyclub.co.uk/events/jaguars-2/
LOCATION:The Albany Club Concert Room\, 10 Earlsdon St\, Coventry\, West Midlands\, CV5 6EG\, United Kingdom
END:VEVENT
END:VCALENDAR