BEGIN:VCALENDAR
VERSION:2.0
PRODID:-// - ECPv6.15.8//NONSGML v1.0//EN
CALSCALE:GREGORIAN
METHOD:PUBLISH
X-ORIGINAL-URL:https://albanyclub.co.uk
X-WR-CALDESC:Events for 
REFRESH-INTERVAL;VALUE=DURATION:PT1H
X-Robots-Tag:noindex
X-PUBLISHED-TTL:PT1H
BEGIN:VTIMEZONE
TZID:UTC
BEGIN:STANDARD
TZOFFSETFROM:+0000
TZOFFSETTO:+0000
TZNAME:UTC
DTSTART:20230101T000000
END:STANDARD
END:VTIMEZONE
BEGIN:VEVENT
DTSTART;TZID=UTC:20240823T200000
DTEND;TZID=UTC:20240823T233000
DTSTAMP:20260421T041322
CREATED:20231203T185018Z
LAST-MODIFIED:20240823T160136Z
UID:649-1724443200-1724455800@albanyclub.co.uk
SUMMARY:Sixties Retro
DESCRIPTION:Sixties Retro were first formed in 2001 from a group of friends who came to know each other at the legendary Earlsdon Cottage in Coventry. After 10 years involved in other projects the band has recently reformed and are taking the resurgent sixties scene by storm\, playing to packed houses all over the UK.
URL:https://albanyclub.co.uk/events/sixties-retro-2/
LOCATION:The Albany Club Lounge
END:VEVENT
END:VCALENDAR