BEGIN:VCALENDAR
VERSION:2.0
PRODID:-// - ECPv6.15.8//NONSGML v1.0//EN
CALSCALE:GREGORIAN
METHOD:PUBLISH
X-ORIGINAL-URL:https://albanyclub.co.uk
X-WR-CALDESC:Events for 
REFRESH-INTERVAL;VALUE=DURATION:PT1H
X-Robots-Tag:noindex
X-PUBLISHED-TTL:PT1H
BEGIN:VTIMEZONE
TZID:UTC
BEGIN:STANDARD
TZOFFSETFROM:+0000
TZOFFSETTO:+0000
TZNAME:UTC
DTSTART:20230101T000000
END:STANDARD
END:VTIMEZONE
BEGIN:VEVENT
DTSTART;TZID=UTC:20240906T210000
DTEND;TZID=UTC:20240906T233000
DTSTAMP:20260421T030141
CREATED:20240319T124333Z
LAST-MODIFIED:20240902T163725Z
UID:929-1725656400-1725665400@albanyclub.co.uk
SUMMARY:ABBA Ever After
DESCRIPTION:Authentic ABBA Tribute Duo based in Coventry United Kingdom. Offering an all singing\, all dancing fabulous flares and feathers show. The girls are guaranteed to get you dancing\, jiving and having the time of your life!’ Amazing dance routines\, costumes and vocals.
URL:https://albanyclub.co.uk/events/abba-ever-after-3/
LOCATION:The Albany Club Lounge
END:VEVENT
END:VCALENDAR