BEGIN:VCALENDAR
VERSION:2.0
PRODID:-// - ECPv6.15.8//NONSGML v1.0//EN
CALSCALE:GREGORIAN
METHOD:PUBLISH
X-ORIGINAL-URL:https://albanyclub.co.uk
X-WR-CALDESC:Events for 
REFRESH-INTERVAL;VALUE=DURATION:PT1H
X-Robots-Tag:noindex
X-PUBLISHED-TTL:PT1H
BEGIN:VTIMEZONE
TZID:UTC
BEGIN:STANDARD
TZOFFSETFROM:+0000
TZOFFSETTO:+0000
TZNAME:UTC
DTSTART:20230101T000000
END:STANDARD
END:VTIMEZONE
BEGIN:VEVENT
DTSTART;TZID=UTC:20240914T200000
DTEND;TZID=UTC:20240915T010000
DTSTAMP:20260421T030224
CREATED:20231203T185732Z
LAST-MODIFIED:20231203T185732Z
UID:677-1726344000-1726362000@albanyclub.co.uk
SUMMARY:Front Row
DESCRIPTION:Frontrow are a vibrant covers band based in Birmingham. We are here to entertain and to enjoy what we do.We play a variety of music from the 50’s to present day. Everything to get the party going. Seasoned musicians with powerful vocals\, who never fail to entertain.
URL:https://albanyclub.co.uk/events/front-row-4/
LOCATION:The Albany Club Concert Room\, 10 Earlsdon St\, Coventry\, West Midlands\, CV5 6EG\, United Kingdom
END:VEVENT
END:VCALENDAR