BEGIN:VCALENDAR
VERSION:2.0
PRODID:-// - ECPv6.15.8//NONSGML v1.0//EN
CALSCALE:GREGORIAN
METHOD:PUBLISH
X-ORIGINAL-URL:https://albanyclub.co.uk
X-WR-CALDESC:Events for 
REFRESH-INTERVAL;VALUE=DURATION:PT1H
X-Robots-Tag:noindex
X-PUBLISHED-TTL:PT1H
BEGIN:VTIMEZONE
TZID:UTC
BEGIN:STANDARD
TZOFFSETFROM:+0000
TZOFFSETTO:+0000
TZNAME:UTC
DTSTART:20230101T000000
END:STANDARD
END:VTIMEZONE
BEGIN:VEVENT
DTSTART;TZID=UTC:20240919T200000
DTEND;TZID=UTC:20240919T220000
DTSTAMP:20260421T030155
CREATED:20240912T170819Z
LAST-MODIFIED:20240912T170819Z
UID:1187-1726776000-1726783200@albanyclub.co.uk
SUMMARY:Phil Robson and Dave Flanagan Quartet
DESCRIPTION:Dave wants to develop a musical style that connects with listeners\, and putting together a band that can do that. With a focus on composition in particularly blending genres and developing more of a melodic narrative.
URL:https://albanyclub.co.uk/events/phil-robson-and-dave-flanagan-quartet/
LOCATION:The Albany Club Concert Room\, 10 Earlsdon St\, Coventry\, West Midlands\, CV5 6EG\, United Kingdom
END:VEVENT
END:VCALENDAR