BEGIN:VCALENDAR
VERSION:2.0
PRODID:-// - ECPv6.15.8//NONSGML v1.0//EN
CALSCALE:GREGORIAN
METHOD:PUBLISH
X-ORIGINAL-URL:https://albanyclub.co.uk
X-WR-CALDESC:Events for 
REFRESH-INTERVAL;VALUE=DURATION:PT1H
X-Robots-Tag:noindex
X-PUBLISHED-TTL:PT1H
BEGIN:VTIMEZONE
TZID:UTC
BEGIN:STANDARD
TZOFFSETFROM:+0000
TZOFFSETTO:+0000
TZNAME:UTC
DTSTART:20230101T000000
END:STANDARD
END:VTIMEZONE
BEGIN:VEVENT
DTSTART;TZID=UTC:20241130T200000
DTEND;TZID=UTC:20241201T010000
DTSTAMP:20260421T041332
CREATED:20231203T190816Z
LAST-MODIFIED:20231203T190816Z
UID:707-1732996800-1733014800@albanyclub.co.uk
SUMMARY:Bang on the Ear
DESCRIPTION:Bang on the Ear’ specialise in up beat traditional & contemporary Irish/Celtic Folk Rock songs.
URL:https://albanyclub.co.uk/events/bang-on-the-ear-3/
LOCATION:The Albany Club Concert Room\, 10 Earlsdon St\, Coventry\, West Midlands\, CV5 6EG\, United Kingdom
END:VEVENT
END:VCALENDAR