BEGIN:VCALENDAR
VERSION:2.0
PRODID:-// - ECPv6.15.8//NONSGML v1.0//EN
CALSCALE:GREGORIAN
METHOD:PUBLISH
X-ORIGINAL-URL:https://albanyclub.co.uk
X-WR-CALDESC:Events for 
REFRESH-INTERVAL;VALUE=DURATION:PT1H
X-Robots-Tag:noindex
X-PUBLISHED-TTL:PT1H
BEGIN:VTIMEZONE
TZID:UTC
BEGIN:STANDARD
TZOFFSETFROM:+0000
TZOFFSETTO:+0000
TZNAME:UTC
DTSTART:20230101T000000
END:STANDARD
END:VTIMEZONE
BEGIN:VEVENT
DTSTART;TZID=UTC:20241206T200000
DTEND;TZID=UTC:20241206T235900
DTSTAMP:20260421T041331
CREATED:20231203T190850Z
LAST-MODIFIED:20241029T105457Z
UID:709-1733515200-1733529540@albanyclub.co.uk
SUMMARY:Audio Heroes
DESCRIPTION:This professional outfit\, with energetic fun loving young men\, cover songs from The Beatles and Elvis through to Kings Of Leon and Take That! They really do have the perfect set of songs and deliver amazing\, live energetic music!
URL:https://albanyclub.co.uk/events/audioheroes/
LOCATION:The Albany Club Lounge
END:VEVENT
END:VCALENDAR