BEGIN:VCALENDAR
VERSION:2.0
PRODID:-// - ECPv6.15.8//NONSGML v1.0//EN
CALSCALE:GREGORIAN
METHOD:PUBLISH
X-ORIGINAL-URL:https://albanyclub.co.uk
X-WR-CALDESC:Events for 
REFRESH-INTERVAL;VALUE=DURATION:PT1H
X-Robots-Tag:noindex
X-PUBLISHED-TTL:PT1H
BEGIN:VTIMEZONE
TZID:UTC
BEGIN:STANDARD
TZOFFSETFROM:+0000
TZOFFSETTO:+0000
TZNAME:UTC
DTSTART:20230101T000000
END:STANDARD
END:VTIMEZONE
BEGIN:VEVENT
DTSTART;TZID=UTC:20241214T200000
DTEND;TZID=UTC:20241215T010000
DTSTAMP:20260421T041455
CREATED:20231203T184248Z
LAST-MODIFIED:20241029T110745Z
UID:645-1734206400-1734224400@albanyclub.co.uk
SUMMARY:The Sirens
DESCRIPTION:The Sirens are a dynamic powerhouse British band. Drawing from an extensive background of live performances and studio expertise within the realms of music and entertainment\, they have converged to create an electrifying force of live music merging the realms of pop\, rock\, and country\, The artists that they cover include Dua Lipa\, Blondie\, Lady Gaga\, Ed Sheeran\, The Beatles\, Bryan Adams\, Shania Twain\, Abba\, Kings of Leon\, Stereophonics\, Adele\, The Weekend\, Black Sabbath\, Miley Cyrus\, Harry Styles\, Daft Punk and many more.  \nWhen The Sirens take the stage\, the atmosphere ignites. Their performances are more than just music; they’re an invitation to celebration. Whether it’s a festival\, function\, wedding or party\, The Sirens guarantee to get everyone dancing and rocking\, ensuring an unforgettable event.
URL:https://albanyclub.co.uk/events/the-sirens-3/
LOCATION:The Albany Club Concert Room\, 10 Earlsdon St\, Coventry\, West Midlands\, CV5 6EG\, United Kingdom
END:VEVENT
END:VCALENDAR