BEGIN:VCALENDAR
VERSION:2.0
PRODID:-// - ECPv6.15.8//NONSGML v1.0//EN
CALSCALE:GREGORIAN
METHOD:PUBLISH
X-ORIGINAL-URL:https://albanyclub.co.uk
X-WR-CALDESC:Events for 
REFRESH-INTERVAL;VALUE=DURATION:PT1H
X-Robots-Tag:noindex
X-PUBLISHED-TTL:PT1H
BEGIN:VTIMEZONE
TZID:UTC
BEGIN:STANDARD
TZOFFSETFROM:+0000
TZOFFSETTO:+0000
TZNAME:UTC
DTSTART:20230101T000000
END:STANDARD
END:VTIMEZONE
BEGIN:VEVENT
DTSTART;TZID=UTC:20241221T210000
DTEND;TZID=UTC:20241222T000000
DTSTAMP:20260421T041322
CREATED:20240215T103820Z
LAST-MODIFIED:20241205T150848Z
UID:851-1734814800-1734825600@albanyclub.co.uk
SUMMARY:Tin Dragons
DESCRIPTION:Tin Dragons is a sensational Midlands-based band\, covering some of the greatest songs of the ’80s\, ’90s and beyond\, often with a unique twist\, all designed to give you an amazing musical experience.
URL:https://albanyclub.co.uk/events/tin-dragons-2/
LOCATION:The Albany Club Concert Room\, 10 Earlsdon St\, Coventry\, West Midlands\, CV5 6EG\, United Kingdom
END:VEVENT
END:VCALENDAR