BEGIN:VCALENDAR
VERSION:2.0
PRODID:-// - ECPv6.15.8//NONSGML v1.0//EN
CALSCALE:GREGORIAN
METHOD:PUBLISH
X-ORIGINAL-URL:https://albanyclub.co.uk
X-WR-CALDESC:Events for 
REFRESH-INTERVAL;VALUE=DURATION:PT1H
X-Robots-Tag:noindex
X-PUBLISHED-TTL:PT1H
BEGIN:VTIMEZONE
TZID:UTC
BEGIN:STANDARD
TZOFFSETFROM:+0000
TZOFFSETTO:+0000
TZNAME:UTC
DTSTART:20230101T000000
END:STANDARD
END:VTIMEZONE
BEGIN:VEVENT
DTSTART;TZID=UTC:20241224T203000
DTEND;TZID=UTC:20241224T230000
DTSTAMP:20260421T041330
CREATED:20241029T121204Z
LAST-MODIFIED:20241029T122316Z
UID:1283-1735072200-1735081200@albanyclub.co.uk
SUMMARY:Neil Ingram
DESCRIPTION:Neil Ingram will be with us from 8.30pm on Christmas Eve\, so get your dancing shoes on and come and join us!
URL:https://albanyclub.co.uk/events/neil-ingram/
LOCATION:West Midlands
END:VEVENT
END:VCALENDAR