BEGIN:VCALENDAR
VERSION:2.0
PRODID:-// - ECPv6.15.8//NONSGML v1.0//EN
CALSCALE:GREGORIAN
METHOD:PUBLISH
X-ORIGINAL-URL:https://albanyclub.co.uk
X-WR-CALDESC:Events for 
REFRESH-INTERVAL;VALUE=DURATION:PT1H
X-Robots-Tag:noindex
X-PUBLISHED-TTL:PT1H
BEGIN:VTIMEZONE
TZID:UTC
BEGIN:STANDARD
TZOFFSETFROM:+0000
TZOFFSETTO:+0000
TZNAME:UTC
DTSTART:20230101T000000
END:STANDARD
END:VTIMEZONE
BEGIN:VEVENT
DTSTART;TZID=UTC:20241231T203000
DTEND;TZID=UTC:20250101T003000
DTSTAMP:20260421T041446
CREATED:20241029T123458Z
LAST-MODIFIED:20241029T123458Z
UID:1291-1735677000-1735691400@albanyclub.co.uk
SUMMARY:DJ Shanksy
DESCRIPTION:
URL:https://albanyclub.co.uk/events/dj-shanksy/
LOCATION:The Albany Club Lounge
END:VEVENT
BEGIN:VEVENT
DTSTART;TZID=UTC:20241231T213000
DTEND;TZID=UTC:20250101T003000
DTSTAMP:20260421T041446
CREATED:20241029T123704Z
LAST-MODIFIED:20241029T124058Z
UID:1293-1735680600-1735691400@albanyclub.co.uk
SUMMARY:The Stonehearts
DESCRIPTION:The Stonehearts are a 3-piece covers band based in Coventry taking on classic tracks by The Beatles\, Oasis\, Stereophonics\, Foo Fighters\, Weller and more!
URL:https://albanyclub.co.uk/events/the-stonehearts-2/
LOCATION:The Albany Club Concert Room\, 10 Earlsdon St\, Coventry\, West Midlands\, CV5 6EG\, United Kingdom
END:VEVENT
END:VCALENDAR