BEGIN:VCALENDAR
VERSION:2.0
PRODID:-// - ECPv6.15.8//NONSGML v1.0//EN
CALSCALE:GREGORIAN
METHOD:PUBLISH
X-ORIGINAL-URL:https://albanyclub.co.uk
X-WR-CALDESC:Events for 
REFRESH-INTERVAL;VALUE=DURATION:PT1H
X-Robots-Tag:noindex
X-PUBLISHED-TTL:PT1H
BEGIN:VTIMEZONE
TZID:UTC
BEGIN:STANDARD
TZOFFSETFROM:+0000
TZOFFSETTO:+0000
TZNAME:UTC
DTSTART:20240101T000000
END:STANDARD
END:VTIMEZONE
BEGIN:VEVENT
DTSTART;TZID=UTC:20250103T210000
DTEND;TZID=UTC:20250103T235900
DTSTAMP:20260421T041331
CREATED:20231203T183549Z
LAST-MODIFIED:20241205T151354Z
UID:619-1735938000-1735948740@albanyclub.co.uk
SUMMARY:Sixties Retro
DESCRIPTION:Sixties Retro were first formed in 2001 from a group of friends who came to know each other at the legendary Earlsdon Cottage in Coventry. After 10 years involved in other projects the band has recently reformed and are taking the resurgent sixties scene by storm\, playing to packed houses all over the UK.
URL:https://albanyclub.co.uk/events/sixties-retro/
LOCATION:The Albany Club Concert Room\, 10 Earlsdon St\, Coventry\, West Midlands\, CV5 6EG\, United Kingdom
END:VEVENT
END:VCALENDAR