BEGIN:VCALENDAR
VERSION:2.0
PRODID:-// - ECPv6.15.8//NONSGML v1.0//EN
CALSCALE:GREGORIAN
METHOD:PUBLISH
X-ORIGINAL-URL:https://albanyclub.co.uk
X-WR-CALDESC:Events for 
REFRESH-INTERVAL;VALUE=DURATION:PT1H
X-Robots-Tag:noindex
X-PUBLISHED-TTL:PT1H
BEGIN:VTIMEZONE
TZID:UTC
BEGIN:STANDARD
TZOFFSETFROM:+0000
TZOFFSETTO:+0000
TZNAME:UTC
DTSTART:20240101T000000
END:STANDARD
END:VTIMEZONE
BEGIN:VEVENT
DTSTART;TZID=UTC:20250104T213000
DTEND;TZID=UTC:20250105T000000
DTSTAMP:20260421T041446
CREATED:20241029T124743Z
LAST-MODIFIED:20241029T124743Z
UID:1297-1736026200-1736035200@albanyclub.co.uk
SUMMARY:Rhythm Street
DESCRIPTION:We are a covers band playing across Northamptonshire\, Oxfordshire\, Warwickshire and beyond\, we give you songs from the 50’s to present day and there is something for everyone. \nWe never fail to impress! “One More” is never enough! \nWe have amazing vocals by Helen and super talented musicians with Simon on drums\, Rich on lead guitar and Paul on bass\, if you are looking for a great\, versatile band for your function\, then stop looking because you have found us.
URL:https://albanyclub.co.uk/events/rhythm-street/
LOCATION:The Albany Club Concert Room\, 10 Earlsdon St\, Coventry\, West Midlands\, CV5 6EG\, United Kingdom
END:VEVENT
END:VCALENDAR