BEGIN:VCALENDAR
VERSION:2.0
PRODID:-// - ECPv6.15.8//NONSGML v1.0//EN
CALSCALE:GREGORIAN
METHOD:PUBLISH
X-ORIGINAL-URL:https://albanyclub.co.uk
X-WR-CALDESC:Events for 
REFRESH-INTERVAL;VALUE=DURATION:PT1H
X-Robots-Tag:noindex
X-PUBLISHED-TTL:PT1H
BEGIN:VTIMEZONE
TZID:UTC
BEGIN:STANDARD
TZOFFSETFROM:+0000
TZOFFSETTO:+0000
TZNAME:UTC
DTSTART:20240101T000000
END:STANDARD
END:VTIMEZONE
BEGIN:VEVENT
DTSTART;TZID=UTC:20250110T210000
DTEND;TZID=UTC:20250110T235000
DTSTAMP:20260421T052934
CREATED:20241029T124925Z
LAST-MODIFIED:20241029T124925Z
UID:1299-1736542800-1736553000@albanyclub.co.uk
SUMMARY:8 Ball Joe
DESCRIPTION:Bringing the best Rock\, Pop and Blues covers to Pubs\, Clubs\, Parties and Functions in the Midlands. Formed in 1989. Based in Coventry and Nuneaton
URL:https://albanyclub.co.uk/events/8-ball-joe-4/
LOCATION:The Albany Club Lounge
END:VEVENT
END:VCALENDAR