BEGIN:VCALENDAR
VERSION:2.0
PRODID:-// - ECPv6.15.8//NONSGML v1.0//EN
CALSCALE:GREGORIAN
METHOD:PUBLISH
X-ORIGINAL-URL:https://albanyclub.co.uk
X-WR-CALDESC:Events for 
REFRESH-INTERVAL;VALUE=DURATION:PT1H
X-Robots-Tag:noindex
X-PUBLISHED-TTL:PT1H
BEGIN:VTIMEZONE
TZID:UTC
BEGIN:STANDARD
TZOFFSETFROM:+0000
TZOFFSETTO:+0000
TZNAME:UTC
DTSTART:20240101T000000
END:STANDARD
END:VTIMEZONE
BEGIN:VEVENT
DTSTART;TZID=UTC:20250118T213000
DTEND;TZID=UTC:20250119T000000
DTSTAMP:20260421T053006
CREATED:20241029T131613Z
LAST-MODIFIED:20241029T131613Z
UID:1306-1737235800-1737244800@albanyclub.co.uk
SUMMARY:The Hightones
DESCRIPTION:The High Tones are a Young \,Energetic Four Piece Midlands based Act\, recreating the sounds of the 1960’s era\, strictly 1960-1969 \nAll the great Bands are covered with passion and integrity from The Beatles\, The Stones\, The Kinks\, The Monkees\, Van Morrison\, The Hollies The small Faces & many more …. \nThe Quartet have over the years worked alongside many musicians\, as well as TV Appearances and Radio in various projects\, Performing\, recording & Touring Europe. \nOver the last couple of years we have had some great opportunities \, Clients include The Cavern in Liverpool \, Various 60’s festivals completed sharing the bill with the Original name acts with more booked later this year\, Nec caravan Show / Newbury Motorhome show / Retro festival / Carnival UK / Cunard Liners plus many more \nThe High Tones were formed with the Aim to develop an act that plays homage to the great sounds of the 1960’s Decade. \nAll our Members bring together to this combination a wealth of talent and experience of vocal harmonies\, authentic instruments and appropriate stage wear of the era to create an Evening of nostalgia and memories that are guaranteed to have all the audience heading for the dance floor to enjoy the full 60’s experience.
URL:https://albanyclub.co.uk/events/the-hightones/
LOCATION:The Albany Club Concert Room\, 10 Earlsdon St\, Coventry\, West Midlands\, CV5 6EG\, United Kingdom
END:VEVENT
END:VCALENDAR