BEGIN:VCALENDAR
VERSION:2.0
PRODID:-// - ECPv6.15.8//NONSGML v1.0//EN
CALSCALE:GREGORIAN
METHOD:PUBLISH
X-ORIGINAL-URL:https://albanyclub.co.uk
X-WR-CALDESC:Events for 
REFRESH-INTERVAL;VALUE=DURATION:PT1H
X-Robots-Tag:noindex
X-PUBLISHED-TTL:PT1H
BEGIN:VTIMEZONE
TZID:UTC
BEGIN:STANDARD
TZOFFSETFROM:+0000
TZOFFSETTO:+0000
TZNAME:UTC
DTSTART:20240101T000000
END:STANDARD
END:VTIMEZONE
BEGIN:VEVENT
DTSTART;TZID=UTC:20250124T210000
DTEND;TZID=UTC:20250124T235000
DTSTAMP:20260421T052812
CREATED:20241029T131903Z
LAST-MODIFIED:20241029T131903Z
UID:1308-1737752400-1737762600@albanyclub.co.uk
SUMMARY:Mind The Gap
DESCRIPTION:
URL:https://albanyclub.co.uk/events/mind-the-gap/
LOCATION:The Albany Club Lounge
END:VEVENT
END:VCALENDAR