BEGIN:VCALENDAR
VERSION:2.0
PRODID:-// - ECPv6.15.8//NONSGML v1.0//EN
CALSCALE:GREGORIAN
METHOD:PUBLISH
X-ORIGINAL-URL:https://albanyclub.co.uk
X-WR-CALDESC:Events for 
REFRESH-INTERVAL;VALUE=DURATION:PT1H
X-Robots-Tag:noindex
X-PUBLISHED-TTL:PT1H
BEGIN:VTIMEZONE
TZID:UTC
BEGIN:STANDARD
TZOFFSETFROM:+0000
TZOFFSETTO:+0000
TZNAME:UTC
DTSTART:20240101T000000
END:STANDARD
END:VTIMEZONE
BEGIN:VEVENT
DTSTART;TZID=UTC:20250222T210000
DTEND;TZID=UTC:20250223T000000
DTSTAMP:20260421T064448
CREATED:20250127T163238Z
LAST-MODIFIED:20250127T163238Z
UID:1454-1740258000-1740268800@albanyclub.co.uk
SUMMARY:Hitmen and Her
DESCRIPTION:Hitmen & Her perform a floor filling set of music to keep you dancing and singing all night. From timeless classic Motown hits to more modern numbers that will ensure the dance floor is packed!
URL:https://albanyclub.co.uk/events/hitmen-and-her/
LOCATION:The Albany Club Concert Room\, 10 Earlsdon St\, Coventry\, West Midlands\, CV5 6EG\, United Kingdom
END:VEVENT
END:VCALENDAR