BEGIN:VCALENDAR
VERSION:2.0
PRODID:-// - ECPv6.15.8//NONSGML v1.0//EN
CALSCALE:GREGORIAN
METHOD:PUBLISH
X-ORIGINAL-URL:https://albanyclub.co.uk
X-WR-CALDESC:Events for 
REFRESH-INTERVAL;VALUE=DURATION:PT1H
X-Robots-Tag:noindex
X-PUBLISHED-TTL:PT1H
BEGIN:VTIMEZONE
TZID:UTC
BEGIN:STANDARD
TZOFFSETFROM:+0000
TZOFFSETTO:+0000
TZNAME:UTC
DTSTART:20240101T000000
END:STANDARD
END:VTIMEZONE
BEGIN:VEVENT
DTSTART;TZID=UTC:20250425T200000
DTEND;TZID=UTC:20250425T235900
DTSTAMP:20260421T093407
CREATED:20250225T170850Z
LAST-MODIFIED:20250225T170850Z
UID:1518-1745611200-1745625540@albanyclub.co.uk
SUMMARY:Guitar Heroes
DESCRIPTION:A stunning tribute band to classic rock.
URL:https://albanyclub.co.uk/events/guitar-heroes-2-2/
LOCATION:The Albany Club Lounge
END:VEVENT
END:VCALENDAR