BEGIN:VCALENDAR
VERSION:2.0
PRODID:-// - ECPv6.15.8//NONSGML v1.0//EN
CALSCALE:GREGORIAN
METHOD:PUBLISH
X-ORIGINAL-URL:https://albanyclub.co.uk
X-WR-CALDESC:Events for 
REFRESH-INTERVAL;VALUE=DURATION:PT1H
X-Robots-Tag:noindex
X-PUBLISHED-TTL:PT1H
BEGIN:VTIMEZONE
TZID:UTC
BEGIN:STANDARD
TZOFFSETFROM:+0000
TZOFFSETTO:+0000
TZNAME:UTC
DTSTART:20240101T000000
END:STANDARD
END:VTIMEZONE
BEGIN:VEVENT
DTSTART;TZID=UTC:20250503T213000
DTEND;TZID=UTC:20250504T003000
DTSTAMP:20260421T093515
CREATED:20250418T125348Z
LAST-MODIFIED:20250418T125348Z
UID:1586-1746307800-1746318600@albanyclub.co.uk
SUMMARY:The Stonehearts
DESCRIPTION:The Stonehearts are a 3-piece covers band based in Coventry taking on classic tracks by The Beatles\, Oasis\, Stereophonics\, Foo Fighters\, Weller and more!
URL:https://albanyclub.co.uk/events/the-stonehearts-4/
LOCATION:The Albany Club Concert Room\, 10 Earlsdon St\, Coventry\, West Midlands\, CV5 6EG\, United Kingdom
END:VEVENT
BEGIN:VEVENT
DTSTART;TZID=UTC:20250504T200000
DTEND;TZID=UTC:20250504T223000
DTSTAMP:20260421T093515
CREATED:20250418T125714Z
LAST-MODIFIED:20250418T125714Z
UID:1590-1746388800-1746397800@albanyclub.co.uk
SUMMARY:FNBC - SOLD OUT
DESCRIPTION:Superb\, energetic Coventry-based five-piece playing classic covers new and old – everything from Ian Dury to Coldplay and Travis. \nMany of you will remember them in their previous incarnations\, The Swains.
URL:https://albanyclub.co.uk/events/fnbc-sold-out/
LOCATION:West Midlands
END:VEVENT
END:VCALENDAR