BEGIN:VCALENDAR
VERSION:2.0
PRODID:-// - ECPv6.15.8//NONSGML v1.0//EN
CALSCALE:GREGORIAN
METHOD:PUBLISH
X-ORIGINAL-URL:https://albanyclub.co.uk
X-WR-CALDESC:Events for 
REFRESH-INTERVAL;VALUE=DURATION:PT1H
X-Robots-Tag:noindex
X-PUBLISHED-TTL:PT1H
BEGIN:VTIMEZONE
TZID:UTC
BEGIN:STANDARD
TZOFFSETFROM:+0000
TZOFFSETTO:+0000
TZNAME:UTC
DTSTART:20240101T000000
END:STANDARD
END:VTIMEZONE
BEGIN:VEVENT
DTSTART;TZID=UTC:20250509T210000
DTEND;TZID=UTC:20250509T233000
DTSTAMP:20260421T110033
CREATED:20250418T130644Z
LAST-MODIFIED:20250428T174232Z
UID:1592-1746824400-1746833400@albanyclub.co.uk
SUMMARY:Hunky Davy
DESCRIPTION:HunkyDavy\, formed in the summer of 2015\, pays tribute to David Bowie by performing his greatest songs
URL:https://albanyclub.co.uk/events/hunky-davy1/
LOCATION:The Albany Club Lounge
END:VEVENT
END:VCALENDAR