BEGIN:VCALENDAR
VERSION:2.0
PRODID:-// - ECPv6.15.8//NONSGML v1.0//EN
CALSCALE:GREGORIAN
METHOD:PUBLISH
X-ORIGINAL-URL:https://albanyclub.co.uk
X-WR-CALDESC:Events for 
REFRESH-INTERVAL;VALUE=DURATION:PT1H
X-Robots-Tag:noindex
X-PUBLISHED-TTL:PT1H
BEGIN:VTIMEZONE
TZID:UTC
BEGIN:STANDARD
TZOFFSETFROM:+0000
TZOFFSETTO:+0000
TZNAME:UTC
DTSTART:20240101T000000
END:STANDARD
END:VTIMEZONE
BEGIN:VEVENT
DTSTART;TZID=UTC:20250524T213000
DTEND;TZID=UTC:20250525T003000
DTSTAMP:20260421T110105
CREATED:20250418T132213Z
LAST-MODIFIED:20250418T132213Z
UID:1602-1748122200-1748133000@albanyclub.co.uk
SUMMARY:Vehicle Band
DESCRIPTION:
URL:https://albanyclub.co.uk/events/vehicle-band/
LOCATION:The Albany Club Concert Room\, 10 Earlsdon St\, Coventry\, West Midlands\, CV5 6EG\, United Kingdom
END:VEVENT
BEGIN:VEVENT
DTSTART;TZID=UTC:20250525T200000
DTEND;TZID=UTC:20250525T223000
DTSTAMP:20260421T110105
CREATED:20250418T132450Z
LAST-MODIFIED:20250418T132450Z
UID:1604-1748203200-1748212200@albanyclub.co.uk
SUMMARY:Lucas Rush
DESCRIPTION:The man of 1000 songs.
URL:https://albanyclub.co.uk/events/lucas-rush-2/
LOCATION:The Albany Club Lounge
END:VEVENT
END:VCALENDAR