BEGIN:VCALENDAR
VERSION:2.0
PRODID:-// - ECPv6.15.8//NONSGML v1.0//EN
CALSCALE:GREGORIAN
METHOD:PUBLISH
X-ORIGINAL-URL:https://albanyclub.co.uk
X-WR-CALDESC:Events for 
REFRESH-INTERVAL;VALUE=DURATION:PT1H
X-Robots-Tag:noindex
X-PUBLISHED-TTL:PT1H
BEGIN:VTIMEZONE
TZID:UTC
BEGIN:STANDARD
TZOFFSETFROM:+0000
TZOFFSETTO:+0000
TZNAME:UTC
DTSTART:20240101T000000
END:STANDARD
END:VTIMEZONE
BEGIN:VEVENT
DTSTART;TZID=UTC:20250530T210000
DTEND;TZID=UTC:20250530T233000
DTSTAMP:20260421T110051
CREATED:20250418T132730Z
LAST-MODIFIED:20250418T132730Z
UID:1606-1748638800-1748647800@albanyclub.co.uk
SUMMARY:Third Alert
DESCRIPTION:We are a band from Coventry that plays classic rock covers in our own inimitable\, no-holds barred style as well as our own material
URL:https://albanyclub.co.uk/events/third-alert/
LOCATION:The Albany Club Lounge
END:VEVENT
END:VCALENDAR