BEGIN:VCALENDAR
VERSION:2.0
PRODID:-// - ECPv6.15.8//NONSGML v1.0//EN
CALSCALE:GREGORIAN
METHOD:PUBLISH
X-ORIGINAL-URL:https://albanyclub.co.uk
X-WR-CALDESC:Events for 
REFRESH-INTERVAL;VALUE=DURATION:PT1H
X-Robots-Tag:noindex
X-PUBLISHED-TTL:PT1H
BEGIN:VTIMEZONE
TZID:UTC
BEGIN:STANDARD
TZOFFSETFROM:+0000
TZOFFSETTO:+0000
TZNAME:UTC
DTSTART:20240101T000000
END:STANDARD
END:VTIMEZONE
BEGIN:VEVENT
DTSTART;TZID=UTC:20250614T213000
DTEND;TZID=UTC:20250614T235900
DTSTAMP:20260421T121135
CREATED:20250603T130036Z
LAST-MODIFIED:20250603T144341Z
UID:1690-1749936600-1749945540@albanyclub.co.uk
SUMMARY:Indiebox
DESCRIPTION:Indiebox are a 5 piece covers band playing the best\, most authentic indie rock anthems you will hear anywhere!We don’t do songs…….we do anthems!
URL:https://albanyclub.co.uk/events/indiebox-2/
LOCATION:The Albany Club Concert Room\, 10 Earlsdon St\, Coventry\, West Midlands\, CV5 6EG\, United Kingdom
END:VEVENT
END:VCALENDAR