BEGIN:VCALENDAR
VERSION:2.0
PRODID:-// - ECPv6.15.8//NONSGML v1.0//EN
CALSCALE:GREGORIAN
METHOD:PUBLISH
X-ORIGINAL-URL:https://albanyclub.co.uk
X-WR-CALDESC:Events for 
REFRESH-INTERVAL;VALUE=DURATION:PT1H
X-Robots-Tag:noindex
X-PUBLISHED-TTL:PT1H
BEGIN:VTIMEZONE
TZID:UTC
BEGIN:STANDARD
TZOFFSETFROM:+0000
TZOFFSETTO:+0000
TZNAME:UTC
DTSTART:20240101T000000
END:STANDARD
END:VTIMEZONE
BEGIN:VEVENT
DTSTART;TZID=UTC:20250620T203000
DTEND;TZID=UTC:20250620T233000
DTSTAMP:20260421T121136
CREATED:20250603T130156Z
LAST-MODIFIED:20250603T130156Z
UID:1692-1750451400-1750462200@albanyclub.co.uk
SUMMARY:Rock Brakken
DESCRIPTION:A guitar based soft rock covers band\, the same line up for over 10 years doing songs from the 70s up to recent times
URL:https://albanyclub.co.uk/events/rock-brakken-3/
LOCATION:The Albany Club Lounge
END:VEVENT
END:VCALENDAR