BEGIN:VCALENDAR
VERSION:2.0
PRODID:-// - ECPv6.15.8//NONSGML v1.0//EN
CALSCALE:GREGORIAN
METHOD:PUBLISH
X-ORIGINAL-URL:https://albanyclub.co.uk
X-WR-CALDESC:Events for 
REFRESH-INTERVAL;VALUE=DURATION:PT1H
X-Robots-Tag:noindex
X-PUBLISHED-TTL:PT1H
BEGIN:VTIMEZONE
TZID:UTC
BEGIN:STANDARD
TZOFFSETFROM:+0000
TZOFFSETTO:+0000
TZNAME:UTC
DTSTART:20240101T000000
END:STANDARD
END:VTIMEZONE
BEGIN:VEVENT
DTSTART;TZID=UTC:20250621T213000
DTEND;TZID=UTC:20250621T235900
DTSTAMP:20260421T121137
CREATED:20250603T130318Z
LAST-MODIFIED:20250603T144311Z
UID:1694-1750541400-1750550340@albanyclub.co.uk
SUMMARY:The Stonehearts
DESCRIPTION:The Stonehearts are a 3-piece covers band based in Coventry taking on classic tracks by The Beatles\, Oasis\, Stereophonics\, Foo Fighters\, Weller and more!
URL:https://albanyclub.co.uk/events/the-stonehearts-5/
LOCATION:The Albany Club Concert Room\, 10 Earlsdon St\, Coventry\, West Midlands\, CV5 6EG\, United Kingdom
END:VEVENT
END:VCALENDAR