BEGIN:VCALENDAR
VERSION:2.0
PRODID:-// - ECPv6.15.8//NONSGML v1.0//EN
CALSCALE:GREGORIAN
METHOD:PUBLISH
X-ORIGINAL-URL:https://albanyclub.co.uk
X-WR-CALDESC:Events for 
REFRESH-INTERVAL;VALUE=DURATION:PT1H
X-Robots-Tag:noindex
X-PUBLISHED-TTL:PT1H
BEGIN:VTIMEZONE
TZID:UTC
BEGIN:STANDARD
TZOFFSETFROM:+0000
TZOFFSETTO:+0000
TZNAME:UTC
DTSTART:20240101T000000
END:STANDARD
END:VTIMEZONE
BEGIN:VEVENT
DTSTART;TZID=UTC:20250712T213000
DTEND;TZID=UTC:20250712T235900
DTSTAMP:20260421T133602
CREATED:20250603T131325Z
LAST-MODIFIED:20250603T144148Z
UID:1706-1752355800-1752364740@albanyclub.co.uk
SUMMARY:Johnny Seven
DESCRIPTION:Mod & Punk classics performed with passion & power!See you down the front!
URL:https://albanyclub.co.uk/events/johnny-seven-3/
LOCATION:The Albany Club Concert Room\, 10 Earlsdon St\, Coventry\, West Midlands\, CV5 6EG\, United Kingdom
END:VEVENT
END:VCALENDAR