BEGIN:VCALENDAR
VERSION:2.0
PRODID:-// - ECPv6.15.8//NONSGML v1.0//EN
CALSCALE:GREGORIAN
METHOD:PUBLISH
X-ORIGINAL-URL:https://albanyclub.co.uk
X-WR-CALDESC:Events for 
REFRESH-INTERVAL;VALUE=DURATION:PT1H
X-Robots-Tag:noindex
X-PUBLISHED-TTL:PT1H
BEGIN:VTIMEZONE
TZID:UTC
BEGIN:STANDARD
TZOFFSETFROM:+0000
TZOFFSETTO:+0000
TZNAME:UTC
DTSTART:20240101T000000
END:STANDARD
END:VTIMEZONE
BEGIN:VEVENT
DTSTART;TZID=UTC:20250802T213000
DTEND;TZID=UTC:20250802T235000
DTSTAMP:20260421T133600
CREATED:20250801T131745Z
LAST-MODIFIED:20250801T131745Z
UID:1812-1754170200-1754178600@albanyclub.co.uk
SUMMARY:The Cover Ducks
DESCRIPTION:The Coverducks are a top-tier covers band known for their stunning vocal harmonies\, professional musicianship\, and unbeatable value. With years of experience they know exactly how to create the perfect atmosphere. They deliver an unforgettable performance from their extensive repertoire which spans classic hits and modern favourites\, ensuring there’s something for everyone.
URL:https://albanyclub.co.uk/events/the-cover-ducks/
LOCATION:The Albany Club Concert Room\, 10 Earlsdon St\, Coventry\, West Midlands\, CV5 6EG\, United Kingdom
END:VEVENT
END:VCALENDAR