BEGIN:VCALENDAR
VERSION:2.0
PRODID:-// - ECPv6.15.8//NONSGML v1.0//EN
CALSCALE:GREGORIAN
METHOD:PUBLISH
X-ORIGINAL-URL:https://albanyclub.co.uk
X-WR-CALDESC:Events for 
REFRESH-INTERVAL;VALUE=DURATION:PT1H
X-Robots-Tag:noindex
X-PUBLISHED-TTL:PT1H
BEGIN:VTIMEZONE
TZID:UTC
BEGIN:STANDARD
TZOFFSETFROM:+0000
TZOFFSETTO:+0000
TZNAME:UTC
DTSTART:20240101T000000
END:STANDARD
END:VTIMEZONE
BEGIN:VEVENT
DTSTART;TZID=UTC:20250905T203000
DTEND;TZID=UTC:20250905T233000
DTSTAMP:20260421T162032
CREATED:20250818T143544Z
LAST-MODIFIED:20250818T143544Z
UID:1859-1757104200-1757115000@albanyclub.co.uk
SUMMARY:The Smashed Vinyls
DESCRIPTION:A covers band from the West Midlands playing Britrock\, Punk/New Wave\, Indie\, 60s and more…
URL:https://albanyclub.co.uk/events/the-smashed-vinyls-3/
LOCATION:The Albany Club Lounge
END:VEVENT
END:VCALENDAR