BEGIN:VCALENDAR
VERSION:2.0
PRODID:-// - ECPv6.15.8//NONSGML v1.0//EN
CALSCALE:GREGORIAN
METHOD:PUBLISH
X-ORIGINAL-URL:https://albanyclub.co.uk
X-WR-CALDESC:Events for 
REFRESH-INTERVAL;VALUE=DURATION:PT1H
X-Robots-Tag:noindex
X-PUBLISHED-TTL:PT1H
BEGIN:VTIMEZONE
TZID:UTC
BEGIN:STANDARD
TZOFFSETFROM:+0000
TZOFFSETTO:+0000
TZNAME:UTC
DTSTART:20240101T000000
END:STANDARD
END:VTIMEZONE
BEGIN:VEVENT
DTSTART;TZID=UTC:20250906T210000
DTEND;TZID=UTC:20250906T235500
DTSTAMP:20260421T161451
CREATED:20250818T143746Z
LAST-MODIFIED:20250818T143754Z
UID:1863-1757192400-1757202900@albanyclub.co.uk
SUMMARY:Red Skies
DESCRIPTION:Red Skies are a 5-piece rock and pop covers band based in the Midlands\, featuring strong female and male vocals with three part harmonies\, lead and rhythm guitar\, keyboards\, bass guitar and live drums. \nWe play completely live and use no pre-recorded tracks. If you love live music and love the sound of classic rock and pop hits\,
URL:https://albanyclub.co.uk/events/red-skies-3/
LOCATION:The Albany Club Concert Room\, 10 Earlsdon St\, Coventry\, West Midlands\, CV5 6EG\, United Kingdom
END:VEVENT
END:VCALENDAR