BEGIN:VCALENDAR
VERSION:2.0
PRODID:-// - ECPv6.15.8//NONSGML v1.0//EN
CALSCALE:GREGORIAN
METHOD:PUBLISH
X-ORIGINAL-URL:https://albanyclub.co.uk
X-WR-CALDESC:Events for 
REFRESH-INTERVAL;VALUE=DURATION:PT1H
X-Robots-Tag:noindex
X-PUBLISHED-TTL:PT1H
BEGIN:VTIMEZONE
TZID:UTC
BEGIN:STANDARD
TZOFFSETFROM:+0000
TZOFFSETTO:+0000
TZNAME:UTC
DTSTART:20240101T000000
END:STANDARD
END:VTIMEZONE
BEGIN:VEVENT
DTSTART;TZID=UTC:20250925T200000
DTEND;TZID=UTC:20250925T223000
DTSTAMP:20260421T161513
CREATED:20250901T154751Z
LAST-MODIFIED:20250901T154751Z
UID:1882-1758830400-1758839400@albanyclub.co.uk
SUMMARY:The Emma Rawicz Quartet
DESCRIPTION:Despite her young age of 22\, she has already achieved an enormous amount: at 19 Rawicz independently released her critically acclaimed debut album\, “Incantation” and singlehandedly managed an extensive UK release tour\, including headline appearances at prestigious venues including the Jazz Cafe and Ronnie Scott’s. Since then her international career has flourished\, playing in over 15 countries\, with extensive tours in Germany and Scandinavia in particular. In 2023 she made her label debut with one of the most important jazz labels in the world today\, ACT\, releasing her album “Chroma” to international acclaim\, notably with the album being selected as the Guardian Album of the Month: “With ‘Chroma’ young British jazz star Emma Rawicz is taking admirable risks and continuing her warp-speed evolution ****” . \n​ \nRawicz’s achievements have been recognised: she is a winner of a Parliamentary Jazz Award\, finalist at the Jazz FM Awards and the BBC Young Jazz Musician Competition. The Royal Academy of Music recently awarded Rawicz the Musician’s Company Silver Medal for excellence and contribution to the institution\, an award not previously given to a jazz student. \n​ \nRawicz’s musical endeavours are broad: she tours with a range of projects\, from duo with internationally renowned pianist Gwilym Simcock\, to her regular touring quartet made up of stars of the UK jazz scene\, to her 20-piece Jazz Orchestra\, which she singlehandedly manages as well as composing and arranging exciting original music. \n​
URL:https://albanyclub.co.uk/events/the-emma-rawicz-quartet/
LOCATION:The Albany Club Concert Room\, 10 Earlsdon St\, Coventry\, West Midlands\, CV5 6EG\, United Kingdom
END:VEVENT
END:VCALENDAR