BEGIN:VCALENDAR
VERSION:2.0
PRODID:-// - ECPv6.15.8//NONSGML v1.0//EN
CALSCALE:GREGORIAN
METHOD:PUBLISH
X-ORIGINAL-URL:https://albanyclub.co.uk
X-WR-CALDESC:Events for 
REFRESH-INTERVAL;VALUE=DURATION:PT1H
X-Robots-Tag:noindex
X-PUBLISHED-TTL:PT1H
BEGIN:VTIMEZONE
TZID:UTC
BEGIN:STANDARD
TZOFFSETFROM:+0000
TZOFFSETTO:+0000
TZNAME:UTC
DTSTART:20240101T000000
END:STANDARD
END:VTIMEZONE
BEGIN:VEVENT
DTSTART;TZID=UTC:20251003T203000
DTEND;TZID=UTC:20251003T233000
DTSTAMP:20260421T174341
CREATED:20250901T155414Z
LAST-MODIFIED:20250901T155414Z
UID:1892-1759523400-1759534200@albanyclub.co.uk
SUMMARY:Ska’rnaby Street
DESCRIPTION:Dave Dixon is a long established Ska\, Reggae and Mod tribute artist from Coventry\, the birthplace of the 70s/80s wave of British Ska and 2-Tone. \nThe 2-Tone sound was developed by young musicians in Coventry\, who grew up hearing 60s Jamaican music. Two Tone combines influences from Ska\, Reggae and Rocksteady with elements of Punk and New Wave. \nDave’s Ska’rnaby Street Ska\, Reggae and Mod show includes classic hits from The Specials\, Madness\, Bad Manners\, UB40\, The Beat\, The Kinks\, the Jam\, The Who\, Small Faces and more!
URL:https://albanyclub.co.uk/events/skarnaby-street-3/
LOCATION:The Albany Club Lounge
END:VEVENT
END:VCALENDAR