BEGIN:VCALENDAR
VERSION:2.0
PRODID:-// - ECPv6.15.8//NONSGML v1.0//EN
CALSCALE:GREGORIAN
METHOD:PUBLISH
X-ORIGINAL-URL:https://albanyclub.co.uk
X-WR-CALDESC:Events for 
REFRESH-INTERVAL;VALUE=DURATION:PT1H
X-Robots-Tag:noindex
X-PUBLISHED-TTL:PT1H
BEGIN:VTIMEZONE
TZID:UTC
BEGIN:STANDARD
TZOFFSETFROM:+0000
TZOFFSETTO:+0000
TZNAME:UTC
DTSTART:20240101T000000
END:STANDARD
END:VTIMEZONE
BEGIN:VEVENT
DTSTART;TZID=UTC:20251011T210000
DTEND;TZID=UTC:20251011T235900
DTSTAMP:20260421T174341
CREATED:20251010T131755Z
LAST-MODIFIED:20251010T131755Z
UID:1966-1760216400-1760227140@albanyclub.co.uk
SUMMARY:Last Lesson
DESCRIPTION:Last Lesson are a five piece band that play music from the 70’s to now including songs by artists such as ABBA\, Adelle\, Blondie and Jessie J.
URL:https://albanyclub.co.uk/events/last-lesson-4/
LOCATION:The Albany Club Concert Room\, 10 Earlsdon St\, Coventry\, West Midlands\, CV5 6EG\, United Kingdom
END:VEVENT
END:VCALENDAR