BEGIN:VCALENDAR
VERSION:2.0
PRODID:-// - ECPv6.15.8//NONSGML v1.0//EN
CALSCALE:GREGORIAN
METHOD:PUBLISH
X-ORIGINAL-URL:https://albanyclub.co.uk
X-WR-CALDESC:Events for 
REFRESH-INTERVAL;VALUE=DURATION:PT1H
X-Robots-Tag:noindex
X-PUBLISHED-TTL:PT1H
BEGIN:VTIMEZONE
TZID:UTC
BEGIN:STANDARD
TZOFFSETFROM:+0000
TZOFFSETTO:+0000
TZNAME:UTC
DTSTART:20240101T000000
END:STANDARD
END:VTIMEZONE
BEGIN:VEVENT
DTSTART;TZID=UTC:20251017T210000
DTEND;TZID=UTC:20251017T233000
DTSTAMP:20260421T173959
CREATED:20251010T132016Z
LAST-MODIFIED:20251010T132016Z
UID:1968-1760734800-1760743800@albanyclub.co.uk
SUMMARY:Rezistance
DESCRIPTION:Rezistance are a powerful four piece\, playing MTV/Radio friendly rock songs from bands including Bon Jovi\, Def Leppard\, Journey\, Whitesnake\, The Cult\, Poison\, Queen\, Van Halen\, Thunder\, Thin Lizzy\, UFO\, Billy Idol\, Motley Crue and many more.
URL:https://albanyclub.co.uk/events/rezistance-6/
LOCATION:The Albany Club Lounge
END:VEVENT
END:VCALENDAR