BEGIN:VCALENDAR
VERSION:2.0
PRODID:-// - ECPv6.15.8//NONSGML v1.0//EN
CALSCALE:GREGORIAN
METHOD:PUBLISH
X-ORIGINAL-URL:https://albanyclub.co.uk
X-WR-CALDESC:Events for 
REFRESH-INTERVAL;VALUE=DURATION:PT1H
X-Robots-Tag:noindex
X-PUBLISHED-TTL:PT1H
BEGIN:VTIMEZONE
TZID:UTC
BEGIN:STANDARD
TZOFFSETFROM:+0000
TZOFFSETTO:+0000
TZNAME:UTC
DTSTART:20240101T000000
END:STANDARD
END:VTIMEZONE
BEGIN:VEVENT
DTSTART;TZID=UTC:20251108T210000
DTEND;TZID=UTC:20251108T235900
DTSTAMP:20260421T220905
CREATED:20251010T142523Z
LAST-MODIFIED:20251010T142523Z
UID:1984-1762635600-1762646340@albanyclub.co.uk
SUMMARY:General Wolfe
DESCRIPTION:Playing great covers of many of your favorite bands.
URL:https://albanyclub.co.uk/events/general-wolfe-5/
LOCATION:West Midlands
END:VEVENT
END:VCALENDAR