BEGIN:VCALENDAR
VERSION:2.0
PRODID:-// - ECPv6.15.8//NONSGML v1.0//EN
CALSCALE:GREGORIAN
METHOD:PUBLISH
X-ORIGINAL-URL:https://albanyclub.co.uk
X-WR-CALDESC:Events for 
REFRESH-INTERVAL;VALUE=DURATION:PT1H
X-Robots-Tag:noindex
X-PUBLISHED-TTL:PT1H
BEGIN:VTIMEZONE
TZID:UTC
BEGIN:STANDARD
TZOFFSETFROM:+0000
TZOFFSETTO:+0000
TZNAME:UTC
DTSTART:20240101T000000
END:STANDARD
END:VTIMEZONE
BEGIN:VEVENT
DTSTART;TZID=UTC:20251114T210000
DTEND;TZID=UTC:20251114T233000
DTSTAMP:20260422T021816
CREATED:20251010T142648Z
LAST-MODIFIED:20251010T142648Z
UID:1986-1763154000-1763163000@albanyclub.co.uk
SUMMARY:The Rooters
DESCRIPTION:The Rooters were formed in 1991 touring throughout the country ever since delivering an authentic and passionate show in a celebration of classic rock. The band showcase songs from bands such as Thin Lizzy\, Queen\, Blue Oyster Cult\, Judas Priest\, Bon Jovi\, Thunder\, Journey\, Eagles\, Lynard Skynyrd\, UFO
URL:https://albanyclub.co.uk/events/the-rooters-3/
LOCATION:The Albany Club Lounge
END:VEVENT
END:VCALENDAR