BEGIN:VCALENDAR
VERSION:2.0
PRODID:-// - ECPv6.15.8//NONSGML v1.0//EN
CALSCALE:GREGORIAN
METHOD:PUBLISH
X-ORIGINAL-URL:https://albanyclub.co.uk
X-WR-CALDESC:Events for 
REFRESH-INTERVAL;VALUE=DURATION:PT1H
X-Robots-Tag:noindex
X-PUBLISHED-TTL:PT1H
BEGIN:VTIMEZONE
TZID:UTC
BEGIN:STANDARD
TZOFFSETFROM:+0000
TZOFFSETTO:+0000
TZNAME:UTC
DTSTART:20220101T000000
END:STANDARD
END:VTIMEZONE
BEGIN:VEVENT
DTSTART;TZID=UTC:20231231T200000
DTEND;TZID=UTC:20240101T010000
DTSTAMP:20260421T123546
CREATED:20231129T182007Z
LAST-MODIFIED:20231203T161147Z
UID:441-1704052800-1704070800@albanyclub.co.uk
SUMMARY:Upstairs - Sixties Retro
DESCRIPTION:Sixties Retro were first formed in 2001 from a group of friends who came to know each other at the legendary Earlsdon Cottage in Coventry. After 10 years involved in other projects the band has recently reformed and are taking the resurgent sixties scene by storm\, playing to packed houses all over the UK.
URL:https://albanyclub.co.uk/events/upstairs-sixties-retro/
LOCATION:The Albany Club Concert Room\, 10 Earlsdon St\, Coventry\, West Midlands\, CV5 6EG\, United Kingdom
END:VEVENT
BEGIN:VEVENT
DTSTART;TZID=UTC:20231231T200000
DTEND;TZID=UTC:20240101T010000
DTSTAMP:20260421T123546
CREATED:20231129T182056Z
LAST-MODIFIED:20231129T211336Z
UID:443-1704052800-1704070800@albanyclub.co.uk
SUMMARY:Downstairs - DJ Shanksy
DESCRIPTION:
URL:https://albanyclub.co.uk/events/downstairs-dj-shanksy/
LOCATION:The Albany Club Concert Room\, 10 Earlsdon St\, Coventry\, West Midlands\, CV5 6EG\, United Kingdom
END:VEVENT
BEGIN:VEVENT
DTSTART;TZID=UTC:20240105T210000
DTEND;TZID=UTC:20240105T233000
DTSTAMP:20260421T123546
CREATED:20231217T195147Z
LAST-MODIFIED:20240105T083652Z
UID:732-1704488400-1704497400@albanyclub.co.uk
SUMMARY:The Journeymen
DESCRIPTION:
URL:https://albanyclub.co.uk/events/the-journeymen-2/
LOCATION:The Albany Club Concert Room\, 10 Earlsdon St\, Coventry\, West Midlands\, CV5 6EG\, United Kingdom
END:VEVENT
BEGIN:VEVENT
DTSTART;TZID=UTC:20240106T203000
DTEND;TZID=UTC:20240106T235900
DTSTAMP:20260421T123546
CREATED:20231217T200104Z
LAST-MODIFIED:20231220T184210Z
UID:734-1704573000-1704585540@albanyclub.co.uk
SUMMARY:Edison
DESCRIPTION:EDISON are a 4-piece anthem band! With covers from the likes of The Killers\, Arctic Monkeys\, James\, UB40\, Oasis\, The Jam and…Tina Turner?! These four are guaranteed to get a party started and keep it going! With 20 years of playing live together under their belts\, EDISON are a professional outfit that promises a high energy and polished performance!”
URL:https://albanyclub.co.uk/events/edison/
LOCATION:West Midlands
END:VEVENT
BEGIN:VEVENT
DTSTART;TZID=UTC:20240112T200000
DTEND;TZID=UTC:20240112T235900
DTSTAMP:20260421T123546
CREATED:20231203T162323Z
LAST-MODIFIED:20231203T162323Z
UID:506-1705089600-1705103940@albanyclub.co.uk
SUMMARY:Guitar Heroes
DESCRIPTION:A stunning tribute band to classic rock.
URL:https://albanyclub.co.uk/events/guitar-heroes/
LOCATION:The Albany Club Concert Room\, 10 Earlsdon St\, Coventry\, West Midlands\, CV5 6EG\, United Kingdom
END:VEVENT
BEGIN:VEVENT
DTSTART;TZID=UTC:20240113T200000
DTEND;TZID=UTC:20240114T010000
DTSTAMP:20260421T123546
CREATED:20231203T162411Z
LAST-MODIFIED:20231203T183104Z
UID:508-1705176000-1705194000@albanyclub.co.uk
SUMMARY:The Sirens
DESCRIPTION:The Sirens are an exciting powerhouse function band performing pop and rock and funk covers. Guaranteed to wow.
URL:https://albanyclub.co.uk/events/the-sirens/
LOCATION:The Albany Club Concert Room\, 10 Earlsdon St\, Coventry\, West Midlands\, CV5 6EG\, United Kingdom
END:VEVENT
BEGIN:VEVENT
DTSTART;TZID=UTC:20240119T200000
DTEND;TZID=UTC:20240119T235900
DTSTAMP:20260421T123546
CREATED:20231203T162809Z
LAST-MODIFIED:20231203T162809Z
UID:510-1705694400-1705708740@albanyclub.co.uk
SUMMARY:Smashed Vinyls
DESCRIPTION:A covers band from the West Midlands playing Britrock\, Punk/New Wave\, Indie\, 60s and more…
URL:https://albanyclub.co.uk/events/smashed-vinyls/
LOCATION:The Albany Club Concert Room\, 10 Earlsdon St\, Coventry\, West Midlands\, CV5 6EG\, United Kingdom
END:VEVENT
BEGIN:VEVENT
DTSTART;TZID=UTC:20240126T203000
DTEND;TZID=UTC:20240126T235900
DTSTAMP:20260421T123546
CREATED:20240125T190644Z
LAST-MODIFIED:20240125T190644Z
UID:815-1706301000-1706313540@albanyclub.co.uk
SUMMARY:AcSIA
DESCRIPTION:5 Piece Live band for any occasion. Add the DJ option for a complete night of top entertainment. Playing all the greatest tunes live for your big event. Number 1 in the midlands\, Pop\, Rock\, Indie\, chart\, Motown and more
URL:https://albanyclub.co.uk/events/acsia-5/
LOCATION:The Albany Club Concert Room\, 10 Earlsdon St\, Coventry\, West Midlands\, CV5 6EG\, United Kingdom
END:VEVENT
BEGIN:VEVENT
DTSTART;TZID=UTC:20240127T210000
DTEND;TZID=UTC:20240128T003000
DTSTAMP:20260421T123546
CREATED:20240125T190829Z
LAST-MODIFIED:20240125T191507Z
UID:817-1706389200-1706401800@albanyclub.co.uk
SUMMARY:Midnight Crossing
DESCRIPTION:NEW BAND\nNot to be Missed !!\n\n\nMidnight Crossing are a midlands based band covering all your entertainment needs Blues\, Funk\, Rock\, Soul. With tight punchy grooves\, tasty guitar licks and big harmonies these guys are all about Good music and fun times!
URL:https://albanyclub.co.uk/events/midnight-crossing/
LOCATION:The Albany Club Concert Room\, 10 Earlsdon St\, Coventry\, West Midlands\, CV5 6EG\, United Kingdom
END:VEVENT
END:VCALENDAR