BEGIN:VCALENDAR
VERSION:2.0
PRODID:-// - ECPv6.15.8//NONSGML v1.0//EN
CALSCALE:GREGORIAN
METHOD:PUBLISH
X-ORIGINAL-URL:https://albanyclub.co.uk
X-WR-CALDESC:Events for 
REFRESH-INTERVAL;VALUE=DURATION:PT1H
X-Robots-Tag:noindex
X-PUBLISHED-TTL:PT1H
BEGIN:VTIMEZONE
TZID:UTC
BEGIN:STANDARD
TZOFFSETFROM:+0000
TZOFFSETTO:+0000
TZNAME:UTC
DTSTART:20230101T000000
END:STANDARD
END:VTIMEZONE
BEGIN:VEVENT
DTSTART;TZID=UTC:20240503T200000
DTEND;TZID=UTC:20240503T235900
DTSTAMP:20260421T070342
CREATED:20231203T174806Z
LAST-MODIFIED:20231203T174806Z
UID:575-1714766400-1714780740@albanyclub.co.uk
SUMMARY:Rezistance
DESCRIPTION:Rezistance are a four piece band playing MTV/Radio Friendly rock songs from bands including Bon Jovi\, Def Leppard\, Journey\, Whitesnake\, The Cult\, Poison\, Queen\, Van Halen\, Thunder\, Thin Lizzy\, UFO\, Billy Idol\, Motley Crue and many more..
URL:https://albanyclub.co.uk/events/rezistance/
LOCATION:The Albany Club Concert Room\, 10 Earlsdon St\, Coventry\, West Midlands\, CV5 6EG\, United Kingdom
END:VEVENT
BEGIN:VEVENT
DTSTART;TZID=UTC:20240504T200000
DTEND;TZID=UTC:20240505T010000
DTSTAMP:20260421T070342
CREATED:20231203T174857Z
LAST-MODIFIED:20231203T175116Z
UID:577-1714852800-1714870800@albanyclub.co.uk
SUMMARY:Abba Ever After
DESCRIPTION:Authentic ABBA Tribute Duo based in Coventry United Kingdom. Offering an all singing\, all dancing fabulous flares and feathers show. The girls are guaranteed to get you dancing\, jiving and having the time of your life!’ Amazing dance routines\, costumes and vocals.
URL:https://albanyclub.co.uk/events/abba-ever-after/
LOCATION:The Albany Club Concert Room\, 10 Earlsdon St\, Coventry\, West Midlands\, CV5 6EG\, United Kingdom
END:VEVENT
BEGIN:VEVENT
DTSTART;TZID=UTC:20240510T200000
DTEND;TZID=UTC:20240510T235900
DTSTAMP:20260421T070342
CREATED:20231203T175225Z
LAST-MODIFIED:20231203T175225Z
UID:580-1715371200-1715385540@albanyclub.co.uk
SUMMARY:Stone Punch
DESCRIPTION:Formed in 2014\, StonePunch are a female fronted\, heavy rock covers band who have already gained a good reputation across the Midlands and the UK. StonePunch have entertained crowds with their eclectic repertoire. The Classic Rock of ACDC\, Sabbath and Zeppelin is balanced by newer bands such as Rival Sons\, The Temperance Movement and Black Stone Cherry; Crowd pleasing floor fillers by Black Crowes and ZZ Top are included alongside Grunge classics by Pearl Jam and Nirvana. Anyone who loves rock music will find something to like about StonePunch.
URL:https://albanyclub.co.uk/events/stone-punch/
LOCATION:The Albany Club Concert Room\, 10 Earlsdon St\, Coventry\, West Midlands\, CV5 6EG\, United Kingdom
END:VEVENT
BEGIN:VEVENT
DTSTART;TZID=UTC:20240511T200000
DTEND;TZID=UTC:20240512T010000
DTSTAMP:20260421T070342
CREATED:20231203T175252Z
LAST-MODIFIED:20231203T175252Z
UID:582-1715457600-1715475600@albanyclub.co.uk
SUMMARY:General Wolfe
DESCRIPTION:Playing great covers of many of your favorite bands.
URL:https://albanyclub.co.uk/events/general-wolfe-2/
LOCATION:The Albany Club Concert Room\, 10 Earlsdon St\, Coventry\, West Midlands\, CV5 6EG\, United Kingdom
END:VEVENT
BEGIN:VEVENT
DTSTART;TZID=UTC:20240517T200000
DTEND;TZID=UTC:20240517T235900
DTSTAMP:20260421T070342
CREATED:20231203T175318Z
LAST-MODIFIED:20231203T175318Z
UID:584-1715976000-1715990340@albanyclub.co.uk
SUMMARY:The Sirens
DESCRIPTION:The Sirens are an exciting powerhouse function band performing pop and rock and funk covers. Guaranteed to wow.
URL:https://albanyclub.co.uk/events/the-sirens-2/
LOCATION:The Albany Club Concert Room\, 10 Earlsdon St\, Coventry\, West Midlands\, CV5 6EG\, United Kingdom
END:VEVENT
BEGIN:VEVENT
DTSTART;TZID=UTC:20240518T200000
DTEND;TZID=UTC:20240519T010000
DTSTAMP:20260421T070342
CREATED:20231203T175353Z
LAST-MODIFIED:20240510T135307Z
UID:586-1716062400-1716080400@albanyclub.co.uk
SUMMARY:Seahorse Pilots
DESCRIPTION:Our current set of songs comprises of tracks from 60’s – present. We have a full set\, but we are always keen to evolve our playlist and we are open-minded as long as it fits in with the functions aim. Adding our own spin to make tracks work for us is cool too.
URL:https://albanyclub.co.uk/events/hot-2-trot/
LOCATION:The Albany Club Concert Room\, 10 Earlsdon St\, Coventry\, West Midlands\, CV5 6EG\, United Kingdom
END:VEVENT
BEGIN:VEVENT
DTSTART;TZID=UTC:20240525T200000
DTEND;TZID=UTC:20240526T010000
DTSTAMP:20260421T070342
CREATED:20231203T175512Z
LAST-MODIFIED:20231203T175512Z
UID:590-1716667200-1716685200@albanyclub.co.uk
SUMMARY:Last Lesson
DESCRIPTION:Last Lesson are a five piece band that play music from the 70’s to now including songs by artists such as ABBA\, Adelle\, Blondie and Jessie J.
URL:https://albanyclub.co.uk/events/last-lesson-2/
LOCATION:The Albany Club Concert Room\, 10 Earlsdon St\, Coventry\, West Midlands\, CV5 6EG\, United Kingdom
END:VEVENT
BEGIN:VEVENT
DTSTART;TZID=UTC:20240531T200000
DTEND;TZID=UTC:20240531T235900
DTSTAMP:20260421T070342
CREATED:20231203T175620Z
LAST-MODIFIED:20231203T175620Z
UID:592-1717185600-1717199940@albanyclub.co.uk
SUMMARY:Elvis & Easy Riders
DESCRIPTION:A talented and dynamic musician in his own right\, Dave’s love for the Elvis repertoire is unmatched. In his capacity as an Elvis impersonator\, Dave has performed for a wide array of different occasions\, having made appearances for corporate entertainment\, wedding entertainment and private occasions. With vast experience putting on a fully self-contained show.
URL:https://albanyclub.co.uk/events/elvis-easy-riders/
LOCATION:The Albany Club Concert Room\, 10 Earlsdon St\, Coventry\, West Midlands\, CV5 6EG\, United Kingdom
END:VEVENT
END:VCALENDAR